BEGIN:VCALENDAR
VERSION:2.0
PRODID:-//Orissaare Spordihoone - ECPv6.15.20//NONSGML v1.0//EN
CALSCALE:GREGORIAN
METHOD:PUBLISH
X-WR-CALNAME:Orissaare Spordihoone
X-ORIGINAL-URL:https://orissaarespordihoone.ee
X-WR-CALDESC:Events for Orissaare Spordihoone
REFRESH-INTERVAL;VALUE=DURATION:PT1H
X-Robots-Tag:noindex
X-PUBLISHED-TTL:PT1H
BEGIN:VTIMEZONE
TZID:Europe/Helsinki
BEGIN:DAYLIGHT
TZOFFSETFROM:+0200
TZOFFSETTO:+0300
TZNAME:EEST
DTSTART:20230326T010000
END:DAYLIGHT
BEGIN:STANDARD
TZOFFSETFROM:+0300
TZOFFSETTO:+0200
TZNAME:EET
DTSTART:20231029T010000
END:STANDARD
BEGIN:DAYLIGHT
TZOFFSETFROM:+0200
TZOFFSETTO:+0300
TZNAME:EEST
DTSTART:20240331T010000
END:DAYLIGHT
BEGIN:STANDARD
TZOFFSETFROM:+0300
TZOFFSETTO:+0200
TZNAME:EET
DTSTART:20241027T010000
END:STANDARD
BEGIN:DAYLIGHT
TZOFFSETFROM:+0200
TZOFFSETTO:+0300
TZNAME:EEST
DTSTART:20250330T010000
END:DAYLIGHT
BEGIN:STANDARD
TZOFFSETFROM:+0300
TZOFFSETTO:+0200
TZNAME:EET
DTSTART:20251026T010000
END:STANDARD
END:VTIMEZONE
BEGIN:VEVENT
DTSTART;TZID=Europe/Helsinki:20240310T120000
DTEND;TZID=Europe/Helsinki:20240310T150000
DTSTAMP:20260420T033431
CREATED:20240309T110015Z
LAST-MODIFIED:20240309T201411Z
UID:4843-1710072000-1710082800@orissaarespordihoone.ee
SUMMARY:U14 EMV etapp Hiiumaal
DESCRIPTION:
URL:https://orissaarespordihoone.ee/uritus/u14-emv-etapp-hiiumaal/
LOCATION:Hiiumaa Spordikeskus\, Põllu 27\, Kärdla\, 92414
ATTACH;FMTTYPE=image/jpeg:https://orissaarespordihoone.ee/wp-content/uploads/2024/02/Noorteliiga.jpg
ORGANIZER;CN="Eesti Korvpalliliit":MAILTO:info@basket.ee
END:VEVENT
END:VCALENDAR