BEGIN:VCALENDAR
VERSION:2.0
PRODID:-//Orissaare Spordihoone - ECPv6.15.20//NONSGML v1.0//EN
CALSCALE:GREGORIAN
METHOD:PUBLISH
X-WR-CALNAME:Orissaare Spordihoone
X-ORIGINAL-URL:https://orissaarespordihoone.ee
X-WR-CALDESC:Events for Orissaare Spordihoone
REFRESH-INTERVAL;VALUE=DURATION:PT1H
X-Robots-Tag:noindex
X-PUBLISHED-TTL:PT1H
BEGIN:VTIMEZONE
TZID:Europe/Helsinki
BEGIN:DAYLIGHT
TZOFFSETFROM:+0200
TZOFFSETTO:+0300
TZNAME:EEST
DTSTART:20230326T010000
END:DAYLIGHT
BEGIN:STANDARD
TZOFFSETFROM:+0300
TZOFFSETTO:+0200
TZNAME:EET
DTSTART:20231029T010000
END:STANDARD
BEGIN:DAYLIGHT
TZOFFSETFROM:+0200
TZOFFSETTO:+0300
TZNAME:EEST
DTSTART:20240331T010000
END:DAYLIGHT
BEGIN:STANDARD
TZOFFSETFROM:+0300
TZOFFSETTO:+0200
TZNAME:EET
DTSTART:20241027T010000
END:STANDARD
BEGIN:DAYLIGHT
TZOFFSETFROM:+0200
TZOFFSETTO:+0300
TZNAME:EEST
DTSTART:20250330T010000
END:DAYLIGHT
BEGIN:STANDARD
TZOFFSETFROM:+0300
TZOFFSETTO:+0200
TZNAME:EET
DTSTART:20251026T010000
END:STANDARD
END:VTIMEZONE
BEGIN:VEVENT
DTSTART;TZID=Europe/Helsinki:20240414T104500
DTEND;TZID=Europe/Helsinki:20240414T154500
DTSTAMP:20260420T020857
CREATED:20240405T153018Z
LAST-MODIFIED:20240406T092010Z
UID:5716-1713091500-1713109500@orissaarespordihoone.ee
SUMMARY:Saaremaa MV korvpallis Kuressaares
DESCRIPTION:Veel viimast korda enne finaalmänge kohtuvad kõik 7 meeskonda Kuressaare Spordikeskuse väikeses saalis. Tule näita enda poolehoidu! Seekord on tantsutüdrukud kohal lausa kolmel mängul! Üritus on kõigile tasuta!\n\nAjakava:\nPÜHAPÄEV 14.04\n10.45 Saaremaa Gümnaasium/Spordikool vs Chronor\n12.30 Orissaare Träx vs Infopank\n14.15 BC Käsa vs Pulvar\n\nRohkem infot Saare Spordiseltsi Facebooki lehel https://www.facebook.com/saarespordiselts/ ning MTÜ Saaremaa Korvpalli kodulehel https://saarekorvpall.ee/teams.php\n\nOle kohal!
URL:https://orissaarespordihoone.ee/uritus/saaremaa-mv-korvpallis-kuressaares-4/
LOCATION:Kuressaare Spordihoone\, Vallimaa 16A\, Kuressaare\, 93819
ORGANIZER;CN="Saare Spordiselts":MAILTO:saarespordiselts@gmail.com
END:VEVENT
END:VCALENDAR