BEGIN:VCALENDAR
VERSION:2.0
PRODID:-//Orissaare Spordihoone - ECPv6.15.20//NONSGML v1.0//EN
CALSCALE:GREGORIAN
METHOD:PUBLISH
X-WR-CALNAME:Orissaare Spordihoone
X-ORIGINAL-URL:https://orissaarespordihoone.ee
X-WR-CALDESC:Events for Orissaare Spordihoone
REFRESH-INTERVAL;VALUE=DURATION:PT1H
X-Robots-Tag:noindex
X-PUBLISHED-TTL:PT1H
BEGIN:VTIMEZONE
TZID:Europe/Helsinki
BEGIN:DAYLIGHT
TZOFFSETFROM:+0200
TZOFFSETTO:+0300
TZNAME:EEST
DTSTART:20230326T010000
END:DAYLIGHT
BEGIN:STANDARD
TZOFFSETFROM:+0300
TZOFFSETTO:+0200
TZNAME:EET
DTSTART:20231029T010000
END:STANDARD
BEGIN:DAYLIGHT
TZOFFSETFROM:+0200
TZOFFSETTO:+0300
TZNAME:EEST
DTSTART:20240331T010000
END:DAYLIGHT
BEGIN:STANDARD
TZOFFSETFROM:+0300
TZOFFSETTO:+0200
TZNAME:EET
DTSTART:20241027T010000
END:STANDARD
BEGIN:DAYLIGHT
TZOFFSETFROM:+0200
TZOFFSETTO:+0300
TZNAME:EEST
DTSTART:20250330T010000
END:DAYLIGHT
BEGIN:STANDARD
TZOFFSETFROM:+0300
TZOFFSETTO:+0200
TZNAME:EET
DTSTART:20251026T010000
END:STANDARD
END:VTIMEZONE
BEGIN:VEVENT
DTSTART;TZID=Europe/Helsinki:20240421T113000
DTEND;TZID=Europe/Helsinki:20240421T173000
DTSTAMP:20260420T015712
CREATED:20240405T150849Z
LAST-MODIFIED:20240405T150849Z
UID:5704-1713699000-1713720600@orissaarespordihoone.ee
SUMMARY:U14 EMV korvpallis etapp Sauel
DESCRIPTION:
URL:https://orissaarespordihoone.ee/uritus/u14-emv-korvpallis-etapp-sauel/
LOCATION:Saue Riigigümnaasiumi spordisaal\, Veskitammi 24\, Laagri\, 76401
ATTACH;FMTTYPE=image/jpeg:https://orissaarespordihoone.ee/wp-content/uploads/2024/02/Noorteliiga.jpg
ORGANIZER;CN="Eesti Korvpalliliit":MAILTO:info@basket.ee
END:VEVENT
BEGIN:VEVENT
DTSTART;TZID=Europe/Helsinki:20240421T120000
DTEND;TZID=Europe/Helsinki:20240421T160000
DTSTAMP:20260420T015712
CREATED:20240405T145943Z
LAST-MODIFIED:20240405T150558Z
UID:5701-1713700800-1713715200@orissaarespordihoone.ee
SUMMARY:Mikrode (U10) korvpall Orissaares
DESCRIPTION:Võistluste algus kell 12:00 \n\nmäng Orissaare vs Pärnu\nmäng Valjala vs Rapla\nmäng Valjala vs Pärnu\nmäng Orissaare vs Rapla
URL:https://orissaarespordihoone.ee/uritus/mikrode-u10-korvpall-orissaares/
LOCATION:Orissaare Spordihoone\, Kuivastu mnt. 29-2\, Orissaare\, 94601
END:VEVENT
END:VCALENDAR