BEGIN:VCALENDAR
VERSION:2.0
PRODID:-//Orissaare Spordihoone - ECPv6.15.20//NONSGML v1.0//EN
CALSCALE:GREGORIAN
METHOD:PUBLISH
X-ORIGINAL-URL:https://orissaarespordihoone.ee
X-WR-CALDESC:Events for Orissaare Spordihoone
REFRESH-INTERVAL;VALUE=DURATION:PT1H
X-Robots-Tag:noindex
X-PUBLISHED-TTL:PT1H
BEGIN:VTIMEZONE
TZID:Europe/Helsinki
BEGIN:DAYLIGHT
TZOFFSETFROM:+0200
TZOFFSETTO:+0300
TZNAME:EEST
DTSTART:20230326T010000
END:DAYLIGHT
BEGIN:STANDARD
TZOFFSETFROM:+0300
TZOFFSETTO:+0200
TZNAME:EET
DTSTART:20231029T010000
END:STANDARD
BEGIN:DAYLIGHT
TZOFFSETFROM:+0200
TZOFFSETTO:+0300
TZNAME:EEST
DTSTART:20240331T010000
END:DAYLIGHT
BEGIN:STANDARD
TZOFFSETFROM:+0300
TZOFFSETTO:+0200
TZNAME:EET
DTSTART:20241027T010000
END:STANDARD
BEGIN:DAYLIGHT
TZOFFSETFROM:+0200
TZOFFSETTO:+0300
TZNAME:EEST
DTSTART:20250330T010000
END:DAYLIGHT
BEGIN:STANDARD
TZOFFSETFROM:+0300
TZOFFSETTO:+0200
TZNAME:EET
DTSTART:20251026T010000
END:STANDARD
END:VTIMEZONE
BEGIN:VEVENT
DTSTART;TZID=Europe/Helsinki:20240426T180000
DTEND;TZID=Europe/Helsinki:20240426T213000
DTSTAMP:20260420T020530
CREATED:20240405T154320Z
LAST-MODIFIED:20240417T060950Z
UID:5718-1714154400-1714167000@orissaarespordihoone.ee
SUMMARY:Saaremaa MV korvpallis I Liiga Playoff\, Kuressaares
DESCRIPTION:Ongi käes aeg tulla kokku veel viimasel kahel päeval\, et välja selgitada maakonna parim kossutiim! \nReedel\, 26. aprilli õhtul lähevad väikeses saalis omavahel vastamisi põhiturniiri neli tugevaimat meeskonda\, et saada teada\, kes liigub edasi finaali ning kes hakkab võitlema 3. koha eest. \n🏀18.00 BC Käsa vs Pulvar\n🏀20.00 Orissaare Träx vs Infopank \nLaupäeval\, 27. aprillil on Kuressaare Spordikeskuse suurde saali oodatud kõik\, sest lisaks finaalmängudele toimub 𝐒𝐔𝐔𝐑 𝐏𝐄𝐑𝐄𝐏𝐀̈𝐄𝐕! 🥁 \nLisaks pingelistele mängudele korvpalliväljakul on loodud pere pisematele lasteala batuutide\, sportmängude ja muude tegevustega. Mängude ajal pakuvad silmailu Saaremaa Tantsutüdukud ning mängude vahel toimub nii 3-punkti viskevõistlus kui ka publikumängud. Päeva juhib Mikk Saarela. \n🏀14.00 3. koha mäng\n🏀15.30 3-punkti viskevõistlus\n🏀16.00 FINAAL \nÜritus on endiselt kõigile tasuta! Haara kaasa sõbrad\, pereliikmed ja naabrimees\, sest spordisaalis kisub väga põnevaks! \nRohkem infot Saare Spordiseltsi Facebooki lehel https://www.facebook.com/saarespordiselts/ ning MTÜ Saaremaa Korvpalli kodulehel https://saarekorvpall.ee/teams.php
URL:https://orissaarespordihoone.ee/uritus/saaremaa-mv-korvpallis-i-liiga-playoff-kuressaares/
LOCATION:Kuressaare Spordihoone\, Vallimaa 16A\, Kuressaare\, 93819
ORGANIZER;CN="Saare Spordiselts":MAILTO:saarespordiselts@gmail.com
END:VEVENT
END:VCALENDAR