BEGIN:VCALENDAR
VERSION:2.0
PRODID:-//Orissaare Spordihoone - ECPv6.15.20//NONSGML v1.0//EN
CALSCALE:GREGORIAN
METHOD:PUBLISH
X-ORIGINAL-URL:https://orissaarespordihoone.ee
X-WR-CALDESC:Events for Orissaare Spordihoone
REFRESH-INTERVAL;VALUE=DURATION:PT1H
X-Robots-Tag:noindex
X-PUBLISHED-TTL:PT1H
BEGIN:VTIMEZONE
TZID:Europe/Helsinki
BEGIN:DAYLIGHT
TZOFFSETFROM:+0200
TZOFFSETTO:+0300
TZNAME:EEST
DTSTART:20230326T010000
END:DAYLIGHT
BEGIN:STANDARD
TZOFFSETFROM:+0300
TZOFFSETTO:+0200
TZNAME:EET
DTSTART:20231029T010000
END:STANDARD
BEGIN:DAYLIGHT
TZOFFSETFROM:+0200
TZOFFSETTO:+0300
TZNAME:EEST
DTSTART:20240331T010000
END:DAYLIGHT
BEGIN:STANDARD
TZOFFSETFROM:+0300
TZOFFSETTO:+0200
TZNAME:EET
DTSTART:20241027T010000
END:STANDARD
BEGIN:DAYLIGHT
TZOFFSETFROM:+0200
TZOFFSETTO:+0300
TZNAME:EEST
DTSTART:20250330T010000
END:DAYLIGHT
BEGIN:STANDARD
TZOFFSETFROM:+0300
TZOFFSETTO:+0200
TZNAME:EET
DTSTART:20251026T010000
END:STANDARD
END:VTIMEZONE
BEGIN:VEVENT
DTSTART;TZID=Europe/Helsinki:20240501T104500
DTEND;TZID=Europe/Helsinki:20240501T170000
DTSTAMP:20260420T004124
CREATED:20240430T082818Z
LAST-MODIFIED:20240430T082858Z
UID:6021-1714560300-1714582800@orissaarespordihoone.ee
SUMMARY:Orissaare aleviku talgud
DESCRIPTION:Orissaare alevik\, Spordihoone ja Piidivabrik korraldavad ühiselt 1. mail talgud. Puhastame Spordihoone ja mere vahelist metsatukka võsast. Tööd on keskkonnaametiga kooskõlastatud. \nKoguneme 10:45 Spordihoone parklas. \nPärast tööd sööme üheskoos kõhud täis ja ajame talgujuttu. Igale talgulisele Spordihoone poolt kingituseks saalide või sauna 10x kaart ning peale talguid saun ja pesemisvõimalus spordihoones. \nPalun märgi Facebooki sündmuse all “osalen”\, et me teaks\, palju suppi keeta!
URL:https://orissaarespordihoone.ee/uritus/orissaare-aleviku-talgud/
LOCATION:Orissaare Spordihoone\, Kuivastu mnt. 29-2\, Orissaare\, 94601
END:VEVENT
END:VCALENDAR