BEGIN:VCALENDAR
VERSION:2.0
PRODID:-//Orissaare Spordihoone - ECPv6.15.20//NONSGML v1.0//EN
CALSCALE:GREGORIAN
METHOD:PUBLISH
X-ORIGINAL-URL:https://orissaarespordihoone.ee
X-WR-CALDESC:Events for Orissaare Spordihoone
REFRESH-INTERVAL;VALUE=DURATION:PT1H
X-Robots-Tag:noindex
X-PUBLISHED-TTL:PT1H
BEGIN:VTIMEZONE
TZID:Europe/Helsinki
BEGIN:DAYLIGHT
TZOFFSETFROM:+0200
TZOFFSETTO:+0300
TZNAME:EEST
DTSTART:20230326T010000
END:DAYLIGHT
BEGIN:STANDARD
TZOFFSETFROM:+0300
TZOFFSETTO:+0200
TZNAME:EET
DTSTART:20231029T010000
END:STANDARD
BEGIN:DAYLIGHT
TZOFFSETFROM:+0200
TZOFFSETTO:+0300
TZNAME:EEST
DTSTART:20240331T010000
END:DAYLIGHT
BEGIN:STANDARD
TZOFFSETFROM:+0300
TZOFFSETTO:+0200
TZNAME:EET
DTSTART:20241027T010000
END:STANDARD
BEGIN:DAYLIGHT
TZOFFSETFROM:+0200
TZOFFSETTO:+0300
TZNAME:EEST
DTSTART:20250330T010000
END:DAYLIGHT
BEGIN:STANDARD
TZOFFSETFROM:+0300
TZOFFSETTO:+0200
TZNAME:EET
DTSTART:20251026T010000
END:STANDARD
END:VTIMEZONE
BEGIN:VEVENT
DTSTART;TZID=Europe/Helsinki:20240510T154000
DTEND;TZID=Europe/Helsinki:20240512T120000
DTSTAMP:20260420T003703
CREATED:20240430T084649Z
LAST-MODIFIED:20240507T115638Z
UID:6028-1715355600-1715515200@orissaarespordihoone.ee
SUMMARY:U15 BBBL turniir
DESCRIPTION:Uus BBBL hooaeg on kohal! \nSel hooajal on turniiril 129 poiste võistkonda erinevatest riikidest vanusegruppides U10 kuni U16 \nKõik mängud on otseülekandes YouTube’is – BBBL TV \nInfo iga etapi kohta tuleb veebisaidil – bbbl.info \nOrissaare poiste mängude ajavaka: \n2024-05-10 15:40 Jugla 2009 vs Orissaare 2009\n2024-05-10 20:20 Orissaare 2009 vs Rapla BS / Kohila SC 2009\n2024-05-11 10:20 Orissaare 2009 vs Rae SK / Kiili SK 2009\n2024-05-11 13:15 Orissaare 2009 vs A.Kraukla VEF 2009\n2024-05-12 10:15 Jelgavas BJSS 2009 vs Orissaare 2009 \nMeeskonna leht: http://bbbl.info/u15/team/4750955/?seasonId=126841
URL:https://orissaarespordihoone.ee/uritus/u15-bbbl-turniir/
LOCATION:Liepajas Olimpiskais centrs\, Brivibas street 39\, Liepāja\, Läti
END:VEVENT
END:VCALENDAR