BEGIN:VCALENDAR
VERSION:2.0
PRODID:-//Orissaare Spordihoone - ECPv6.15.20//NONSGML v1.0//EN
CALSCALE:GREGORIAN
METHOD:PUBLISH
X-WR-CALNAME:Orissaare Spordihoone
X-ORIGINAL-URL:https://orissaarespordihoone.ee
X-WR-CALDESC:Events for Orissaare Spordihoone
REFRESH-INTERVAL;VALUE=DURATION:PT1H
X-Robots-Tag:noindex
X-PUBLISHED-TTL:PT1H
BEGIN:VTIMEZONE
TZID:Europe/Helsinki
BEGIN:DAYLIGHT
TZOFFSETFROM:+0200
TZOFFSETTO:+0300
TZNAME:EEST
DTSTART:20230326T010000
END:DAYLIGHT
BEGIN:STANDARD
TZOFFSETFROM:+0300
TZOFFSETTO:+0200
TZNAME:EET
DTSTART:20231029T010000
END:STANDARD
BEGIN:DAYLIGHT
TZOFFSETFROM:+0200
TZOFFSETTO:+0300
TZNAME:EEST
DTSTART:20240331T010000
END:DAYLIGHT
BEGIN:STANDARD
TZOFFSETFROM:+0300
TZOFFSETTO:+0200
TZNAME:EET
DTSTART:20241027T010000
END:STANDARD
BEGIN:DAYLIGHT
TZOFFSETFROM:+0200
TZOFFSETTO:+0300
TZNAME:EEST
DTSTART:20250330T010000
END:DAYLIGHT
BEGIN:STANDARD
TZOFFSETFROM:+0300
TZOFFSETTO:+0200
TZNAME:EET
DTSTART:20251026T010000
END:STANDARD
END:VTIMEZONE
BEGIN:VEVENT
DTSTART;TZID=Europe/Helsinki:20240517T104500
DTEND;TZID=Europe/Helsinki:20240517T163000
DTSTAMP:20260420T003505
CREATED:20240422T161910Z
LAST-MODIFIED:20240510T104733Z
UID:5949-1715942700-1715963400@orissaarespordihoone.ee
SUMMARY:Saare maakonna U16 ja U14 kergejõustiku meistrivõistlused
DESCRIPTION:U14 ja U16 meistrivõistluste juhend \nU14 ja U16 meistrivõistluste ajakava
URL:https://orissaarespordihoone.ee/uritus/saare-maakonna-u16-ja-u14-kergejoustiku-meistrivoistlused/
LOCATION:Kuressaare Linnastaadion\, Staadioni 6\, Kuressaare\, 93815
ATTACH;FMTTYPE=image/png:https://orissaarespordihoone.ee/wp-content/uploads/2024/04/saaresport_logo_90_250.png
END:VEVENT
BEGIN:VEVENT
DTSTART;TZID=Europe/Helsinki:20240517T151500
DTEND;TZID=Europe/Helsinki:20240517T200000
DTSTAMP:20260420T003505
CREATED:20240422T162015Z
LAST-MODIFIED:20240507T164923Z
UID:5951-1715958900-1715976000@orissaarespordihoone.ee
SUMMARY:Saare maakonna kergejõustiku MV U18\, U20 ja täiskasvanud
DESCRIPTION:17. mai \n15.30 Teivas M (U20\, U18\, U16\, U14)+N (vihmase ilma korral kergejõustikuhallis)\n19.00 3000m M+N \n18. mai \nTeised kergejõustiku alad.
URL:https://orissaarespordihoone.ee/uritus/saare-maakonna-kergejoustiku-mv-u18-u20-ja-taiskasvanud/
LOCATION:Kuressaare Linnastaadion\, Staadioni 6\, Kuressaare\, 93815
ATTACH;FMTTYPE=image/png:https://orissaarespordihoone.ee/wp-content/uploads/2024/04/saaresport_logo_90_250.png
END:VEVENT
END:VCALENDAR