BEGIN:VCALENDAR
VERSION:2.0
PRODID:-//Orissaare Spordihoone - ECPv6.15.20//NONSGML v1.0//EN
CALSCALE:GREGORIAN
METHOD:PUBLISH
X-ORIGINAL-URL:https://orissaarespordihoone.ee
X-WR-CALDESC:Events for Orissaare Spordihoone
REFRESH-INTERVAL;VALUE=DURATION:PT1H
X-Robots-Tag:noindex
X-PUBLISHED-TTL:PT1H
BEGIN:VTIMEZONE
TZID:Europe/Helsinki
BEGIN:DAYLIGHT
TZOFFSETFROM:+0200
TZOFFSETTO:+0300
TZNAME:EEST
DTSTART:20230326T010000
END:DAYLIGHT
BEGIN:STANDARD
TZOFFSETFROM:+0300
TZOFFSETTO:+0200
TZNAME:EET
DTSTART:20231029T010000
END:STANDARD
BEGIN:DAYLIGHT
TZOFFSETFROM:+0200
TZOFFSETTO:+0300
TZNAME:EEST
DTSTART:20240331T010000
END:DAYLIGHT
BEGIN:STANDARD
TZOFFSETFROM:+0300
TZOFFSETTO:+0200
TZNAME:EET
DTSTART:20241027T010000
END:STANDARD
BEGIN:DAYLIGHT
TZOFFSETFROM:+0200
TZOFFSETTO:+0300
TZNAME:EEST
DTSTART:20250330T010000
END:DAYLIGHT
BEGIN:STANDARD
TZOFFSETFROM:+0300
TZOFFSETTO:+0200
TZNAME:EET
DTSTART:20251026T010000
END:STANDARD
END:VTIMEZONE
BEGIN:VEVENT
DTSTART;TZID=Europe/Helsinki:20240518T093000
DTEND;TZID=Europe/Helsinki:20240519T150000
DTSTAMP:20260420T003740
CREATED:20240507T115918Z
LAST-MODIFIED:20240507T115918Z
UID:6199-1716024600-1716130800@orissaarespordihoone.ee
SUMMARY:Koroona
DESCRIPTION:
URL:https://orissaarespordihoone.ee/uritus/koroona/
LOCATION:Orissaare Spordihoone\, Kuivastu mnt. 29-2\, Orissaare\, 94601
ATTACH;FMTTYPE=image/jpeg:https://orissaarespordihoone.ee/wp-content/uploads/2024/04/koroona.jpg
ORGANIZER;CN="Saare M%C3%A4ng":MAILTO:sksaaremang@gmail.com
END:VEVENT
BEGIN:VEVENT
DTSTART;TZID=Europe/Helsinki:20240518T100000
DTEND;TZID=Europe/Helsinki:20240518T110000
DTSTAMP:20260420T003740
CREATED:20240507T130711Z
LAST-MODIFIED:20240507T131317Z
UID:6202-1716026400-1716030000@orissaarespordihoone.ee
SUMMARY:Tantsulise tüdrukud Muhu laadal esinemas
DESCRIPTION:Tantsulise treeningu mõlema vanuserühma tüdrukud esinevad Muhu kevadlaadal\, mis toimub laupäeval\, 18. mail 2024 kell 09:00-15:00 Muhu turuplatsil Liival. \nTüdrukud astuvad üles kell 10:00 \nJuhendaja Mall Noormets. \nRohkem infot laada kohta: Muhu kevadlaat 2024
URL:https://orissaarespordihoone.ee/uritus/tantsulise-tudrukud-muhu-laadal-esinemas/
LOCATION:Muhu turuplats\, Liiva küla\, Muhu
END:VEVENT
BEGIN:VEVENT
DTSTART;TZID=Europe/Helsinki:20240518T110000
DTEND;TZID=Europe/Helsinki:20240518T143000
DTSTAMP:20260420T003740
CREATED:20240422T162057Z
LAST-MODIFIED:20240513T065322Z
UID:5953-1716030000-1716042600@orissaarespordihoone.ee
SUMMARY:Saare maakonna kergejõustiku MV U18\, U20 ja täiskasvanud
DESCRIPTION:Saare maakonna MV U18\, U20 ja täiskasvanute kergejõustikus JUHEND ja AJAKAVA \nRegistreerimine Kuressaare staadionil vähemalt 30 min. enne ala algust!
URL:https://orissaarespordihoone.ee/uritus/saare-maakonna-kergejoustiku-mv-u18-u20-ja-taiskasvanud-2/
LOCATION:Kuressaare Linnastaadion\, Staadioni 6\, Kuressaare\, 93815
ATTACH;FMTTYPE=image/png:https://orissaarespordihoone.ee/wp-content/uploads/2024/04/saaresport_logo_90_250.png
END:VEVENT
END:VCALENDAR