BEGIN:VCALENDAR
VERSION:2.0
PRODID:-//Orissaare Spordihoone - ECPv6.15.20//NONSGML v1.0//EN
CALSCALE:GREGORIAN
METHOD:PUBLISH
X-ORIGINAL-URL:https://orissaarespordihoone.ee
X-WR-CALDESC:Events for Orissaare Spordihoone
REFRESH-INTERVAL;VALUE=DURATION:PT1H
X-Robots-Tag:noindex
X-PUBLISHED-TTL:PT1H
BEGIN:VTIMEZONE
TZID:Europe/Helsinki
BEGIN:DAYLIGHT
TZOFFSETFROM:+0200
TZOFFSETTO:+0300
TZNAME:EEST
DTSTART:20230326T010000
END:DAYLIGHT
BEGIN:STANDARD
TZOFFSETFROM:+0300
TZOFFSETTO:+0200
TZNAME:EET
DTSTART:20231029T010000
END:STANDARD
BEGIN:DAYLIGHT
TZOFFSETFROM:+0200
TZOFFSETTO:+0300
TZNAME:EEST
DTSTART:20240331T010000
END:DAYLIGHT
BEGIN:STANDARD
TZOFFSETFROM:+0300
TZOFFSETTO:+0200
TZNAME:EET
DTSTART:20241027T010000
END:STANDARD
BEGIN:DAYLIGHT
TZOFFSETFROM:+0200
TZOFFSETTO:+0300
TZNAME:EEST
DTSTART:20250330T010000
END:DAYLIGHT
BEGIN:STANDARD
TZOFFSETFROM:+0300
TZOFFSETTO:+0200
TZNAME:EET
DTSTART:20251026T010000
END:STANDARD
END:VTIMEZONE
BEGIN:VEVENT
DTSTART;TZID=Europe/Helsinki:20240521T160000
DTEND;TZID=Europe/Helsinki:20240521T180000
DTSTAMP:20260420T003739
CREATED:20240422T161735Z
LAST-MODIFIED:20240507T131105Z
UID:5945-1716307200-1716314400@orissaarespordihoone.ee
SUMMARY:TV10 Olümpiastarti Saaremaa IV etapp
DESCRIPTION:
URL:https://orissaarespordihoone.ee/uritus/tv10-olumpiastarti-saaremaa-iv-etapp/
LOCATION:Kuressaare Linnastaadion\, Staadioni 6\, Kuressaare\, 93815
ATTACH;FMTTYPE=image/png:https://orissaarespordihoone.ee/wp-content/uploads/2024/04/saaresport_logo_90_250.png
END:VEVENT
END:VCALENDAR