BEGIN:VCALENDAR
VERSION:2.0
PRODID:-//Orissaare Spordihoone - ECPv6.15.20//NONSGML v1.0//EN
CALSCALE:GREGORIAN
METHOD:PUBLISH
X-WR-CALNAME:Orissaare Spordihoone
X-ORIGINAL-URL:https://orissaarespordihoone.ee
X-WR-CALDESC:Events for Orissaare Spordihoone
REFRESH-INTERVAL;VALUE=DURATION:PT1H
X-Robots-Tag:noindex
X-PUBLISHED-TTL:PT1H
BEGIN:VTIMEZONE
TZID:Europe/Helsinki
BEGIN:DAYLIGHT
TZOFFSETFROM:+0200
TZOFFSETTO:+0300
TZNAME:EEST
DTSTART:20230326T010000
END:DAYLIGHT
BEGIN:STANDARD
TZOFFSETFROM:+0300
TZOFFSETTO:+0200
TZNAME:EET
DTSTART:20231029T010000
END:STANDARD
BEGIN:DAYLIGHT
TZOFFSETFROM:+0200
TZOFFSETTO:+0300
TZNAME:EEST
DTSTART:20240331T010000
END:DAYLIGHT
BEGIN:STANDARD
TZOFFSETFROM:+0300
TZOFFSETTO:+0200
TZNAME:EET
DTSTART:20241027T010000
END:STANDARD
BEGIN:DAYLIGHT
TZOFFSETFROM:+0200
TZOFFSETTO:+0300
TZNAME:EEST
DTSTART:20250330T010000
END:DAYLIGHT
BEGIN:STANDARD
TZOFFSETFROM:+0300
TZOFFSETTO:+0200
TZNAME:EET
DTSTART:20251026T010000
END:STANDARD
END:VTIMEZONE
BEGIN:VEVENT
DTSTART;TZID=Europe/Helsinki:20240605T090000
DTEND;TZID=Europe/Helsinki:20240605T201500
DTSTAMP:20260419T230923
CREATED:20240528T141504Z
LAST-MODIFIED:20240528T142859Z
UID:6369-1717578000-1717618500@orissaarespordihoone.ee
SUMMARY:RÖÖMuFestival noortele
DESCRIPTION:Kutsume teid RÖÖMuga 5. juunil teisele noorte RÖÖMuFestivalile\, mis käesoleval aastal keskendub erinevatele kultuuridele meie ümber. \nHea 4.-9. klassi õpilane\, Sind ootavad terve päev haaravad töötoad\, huvitavad väljakutsed\, kuhjaga inspiratsiooni ja värskeid ideid\, põnevad kohtumised ja ägedad tutvused\, kaaslasteks oma ala parimad tegijad ja noored üle Saaremaa. \nÕhtul tõmbame peo käima elamusterohke kontserdiga\, kus noored saavad muu hulgas letti lüüa ka oma varasemad kogemused ja festivali ajal õpitud oskused. \nVõime seda nimetada ka mitteformaalseks õppeks\, sest iga töötoaga lisandub veel uus teadmine. Ja kes teab\, ehk saab laps siit indu juurde tegelemaks uute vahvate tegemistega. \nPäev kulmineerub suure paneeli ja kontserdiga\, kus peaesinejaks on Jaanus Saks ja Johanna Randmann ansamblist Põhja-Tallinn. \nRohkem infot FB lehelt: RÖÖMuFestival noortele
URL:https://orissaarespordihoone.ee/uritus/roomufestival-noortele/
LOCATION:Orissaare
END:VEVENT
END:VCALENDAR