BEGIN:VCALENDAR
VERSION:2.0
PRODID:-//Orissaare Spordihoone - ECPv6.15.20//NONSGML v1.0//EN
CALSCALE:GREGORIAN
METHOD:PUBLISH
X-ORIGINAL-URL:https://orissaarespordihoone.ee
X-WR-CALDESC:Events for Orissaare Spordihoone
REFRESH-INTERVAL;VALUE=DURATION:PT1H
X-Robots-Tag:noindex
X-PUBLISHED-TTL:PT1H
BEGIN:VTIMEZONE
TZID:Europe/Helsinki
BEGIN:DAYLIGHT
TZOFFSETFROM:+0200
TZOFFSETTO:+0300
TZNAME:EEST
DTSTART:20230326T010000
END:DAYLIGHT
BEGIN:STANDARD
TZOFFSETFROM:+0300
TZOFFSETTO:+0200
TZNAME:EET
DTSTART:20231029T010000
END:STANDARD
BEGIN:DAYLIGHT
TZOFFSETFROM:+0200
TZOFFSETTO:+0300
TZNAME:EEST
DTSTART:20240331T010000
END:DAYLIGHT
BEGIN:STANDARD
TZOFFSETFROM:+0300
TZOFFSETTO:+0200
TZNAME:EET
DTSTART:20241027T010000
END:STANDARD
BEGIN:DAYLIGHT
TZOFFSETFROM:+0200
TZOFFSETTO:+0300
TZNAME:EEST
DTSTART:20250330T010000
END:DAYLIGHT
BEGIN:STANDARD
TZOFFSETFROM:+0300
TZOFFSETTO:+0200
TZNAME:EET
DTSTART:20251026T010000
END:STANDARD
END:VTIMEZONE
BEGIN:VEVENT
DTSTART;TZID=Europe/Helsinki:20240609T130000
DTEND;TZID=Europe/Helsinki:20240609T180000
DTSTAMP:20260419T231053
CREATED:20240607T133617Z
LAST-MODIFIED:20240607T133719Z
UID:6389-1717938000-1717956000@orissaarespordihoone.ee
SUMMARY:Eesti noorte karikavõistlused
DESCRIPTION:AJAKAVA
URL:https://orissaarespordihoone.ee/uritus/eesti-noorte-karikavoistlused/
LOCATION:Pärnu Rannastaadion\, Ranna pst 2\, Pärnu\, 80012
ATTACH;FMTTYPE=image/jpeg:https://orissaarespordihoone.ee/wp-content/uploads/2024/02/ekjllogo.jpg
ORGANIZER;CN="Eesti Kergej%C3%B5ustikuliit":MAILTO:ekjl@ekjl.ee
END:VEVENT
END:VCALENDAR