BEGIN:VCALENDAR
VERSION:2.0
PRODID:-//Orissaare Spordihoone - ECPv6.15.20//NONSGML v1.0//EN
CALSCALE:GREGORIAN
METHOD:PUBLISH
X-ORIGINAL-URL:https://orissaarespordihoone.ee
X-WR-CALDESC:Events for Orissaare Spordihoone
REFRESH-INTERVAL;VALUE=DURATION:PT1H
X-Robots-Tag:noindex
X-PUBLISHED-TTL:PT1H
BEGIN:VTIMEZONE
TZID:Europe/Helsinki
BEGIN:DAYLIGHT
TZOFFSETFROM:+0200
TZOFFSETTO:+0300
TZNAME:EEST
DTSTART:20230326T010000
END:DAYLIGHT
BEGIN:STANDARD
TZOFFSETFROM:+0300
TZOFFSETTO:+0200
TZNAME:EET
DTSTART:20231029T010000
END:STANDARD
BEGIN:DAYLIGHT
TZOFFSETFROM:+0200
TZOFFSETTO:+0300
TZNAME:EEST
DTSTART:20240331T010000
END:DAYLIGHT
BEGIN:STANDARD
TZOFFSETFROM:+0300
TZOFFSETTO:+0200
TZNAME:EET
DTSTART:20241027T010000
END:STANDARD
BEGIN:DAYLIGHT
TZOFFSETFROM:+0200
TZOFFSETTO:+0300
TZNAME:EEST
DTSTART:20250330T010000
END:DAYLIGHT
BEGIN:STANDARD
TZOFFSETFROM:+0300
TZOFFSETTO:+0200
TZNAME:EET
DTSTART:20251026T010000
END:STANDARD
END:VTIMEZONE
BEGIN:VEVENT
DTSTART;TZID=Europe/Helsinki:20240701T103000
DTEND;TZID=Europe/Helsinki:20240703T190000
DTSTAMP:20260419T214835
CREATED:20240525T071417Z
LAST-MODIFIED:20240701T130930Z
UID:6355-1719829800-1720033200@orissaarespordihoone.ee
SUMMARY:Fitness laager
DESCRIPTION:Kava:\n01.07. Esmaspäev\n10.00 Laagri algus Orissaare Spordihoones\n11.00 Treening jõusaalis\n13.00 Lõunasöök\n15.00 Jõutõstmise töötuba. Juhendaja: Kaarel Kolter\n18.00 Õhtusöök\n20.00 Mängud\, suplus\, supitamine\n23.00 Öörahu \n02.07. Teisipäev\n08.30 Äratus. Hommikurutiin – jooks\, võimlemine\, suplus\n09.30 Hommikusöök\n11.00 Treening jõusaalis\n13.00 Lõunasöök\n15.00 Treening jõusaalis. Toitumine & toidulisandid. Juhendaja: Karmen Kiier\n17.00 Aeroobne treening\n18.00 Õhtusöök\n20.00 Mängud\, suplus\, supitamine\n23.00 Öörahu \n03.07. Kolmapäev\n08.30 Äratus. Hommikurutiin – jooks\, võimlemine\, suplus\n09.30 Hommikusöök\n11.00 Treening jõusaalis\n13.00 Lõunasöök\n15.00 Treening välijõusaalis\n18.00 Õhtusöök. Laagri lõpetamine.
URL:https://orissaarespordihoone.ee/uritus/fitness-laager/
LOCATION:Orissaare Spordihoone\, Kuivastu mnt. 29-2\, Orissaare\, 94601
END:VEVENT
END:VCALENDAR