BEGIN:VCALENDAR
VERSION:2.0
PRODID:-//Orissaare Spordihoone - ECPv6.15.20//NONSGML v1.0//EN
CALSCALE:GREGORIAN
METHOD:PUBLISH
X-ORIGINAL-URL:https://orissaarespordihoone.ee
X-WR-CALDESC:Events for Orissaare Spordihoone
REFRESH-INTERVAL;VALUE=DURATION:PT1H
X-Robots-Tag:noindex
X-PUBLISHED-TTL:PT1H
BEGIN:VTIMEZONE
TZID:Europe/Helsinki
BEGIN:DAYLIGHT
TZOFFSETFROM:+0200
TZOFFSETTO:+0300
TZNAME:EEST
DTSTART:20230326T010000
END:DAYLIGHT
BEGIN:STANDARD
TZOFFSETFROM:+0300
TZOFFSETTO:+0200
TZNAME:EET
DTSTART:20231029T010000
END:STANDARD
BEGIN:DAYLIGHT
TZOFFSETFROM:+0200
TZOFFSETTO:+0300
TZNAME:EEST
DTSTART:20240331T010000
END:DAYLIGHT
BEGIN:STANDARD
TZOFFSETFROM:+0300
TZOFFSETTO:+0200
TZNAME:EET
DTSTART:20241027T010000
END:STANDARD
BEGIN:DAYLIGHT
TZOFFSETFROM:+0200
TZOFFSETTO:+0300
TZNAME:EEST
DTSTART:20250330T010000
END:DAYLIGHT
BEGIN:STANDARD
TZOFFSETFROM:+0300
TZOFFSETTO:+0200
TZNAME:EET
DTSTART:20251026T010000
END:STANDARD
END:VTIMEZONE
BEGIN:VEVENT
DTSTART;TZID=Europe/Helsinki:20240805T083000
DTEND;TZID=Europe/Helsinki:20240808T140000
DTSTAMP:20260419T202627
CREATED:20240731T131534Z
LAST-MODIFIED:20240731T131728Z
UID:6594-1722846600-1723125600@orissaarespordihoone.ee
SUMMARY:Orissaare U16 korvpallilaager
DESCRIPTION:Orissaare U16 treeningrühma korvpallilaager toimub 5.-8. august \n  \nLaagri kava: \n8:30 – Hommikune ujumine \n9:00 – Hommikusöök (ööbijatele) \n10:00-12:00 – Esimene trenn \n13:00 – Lõunasöök \n13:30-17:30 – Vaba aeg ja puhkus \n17:30-19:30 – Teine trenn \n20:00 – Õhtusöök \n21:00 – Õhtune ujumine \n21:00-23:00 – Olümpiamängude ühisvaatamine spordihoones
URL:https://orissaarespordihoone.ee/uritus/orissaare-u16-korvpallilaager/
LOCATION:Orissaare Spordihoone\, Kuivastu mnt. 29-2\, Orissaare\, 94601
ORGANIZER;CN="MT%C3%9C Orissaare Sport":MAILTO:orissaare.sport@gmail.com
END:VEVENT
END:VCALENDAR