BEGIN:VCALENDAR
VERSION:2.0
PRODID:-//Orissaare Spordihoone - ECPv6.15.20//NONSGML v1.0//EN
CALSCALE:GREGORIAN
METHOD:PUBLISH
X-ORIGINAL-URL:https://orissaarespordihoone.ee
X-WR-CALDESC:Events for Orissaare Spordihoone
REFRESH-INTERVAL;VALUE=DURATION:PT1H
X-Robots-Tag:noindex
X-PUBLISHED-TTL:PT1H
BEGIN:VTIMEZONE
TZID:Europe/Helsinki
BEGIN:DAYLIGHT
TZOFFSETFROM:+0200
TZOFFSETTO:+0300
TZNAME:EEST
DTSTART:20230326T010000
END:DAYLIGHT
BEGIN:STANDARD
TZOFFSETFROM:+0300
TZOFFSETTO:+0200
TZNAME:EET
DTSTART:20231029T010000
END:STANDARD
BEGIN:DAYLIGHT
TZOFFSETFROM:+0200
TZOFFSETTO:+0300
TZNAME:EEST
DTSTART:20240331T010000
END:DAYLIGHT
BEGIN:STANDARD
TZOFFSETFROM:+0300
TZOFFSETTO:+0200
TZNAME:EET
DTSTART:20241027T010000
END:STANDARD
BEGIN:DAYLIGHT
TZOFFSETFROM:+0200
TZOFFSETTO:+0300
TZNAME:EEST
DTSTART:20250330T010000
END:DAYLIGHT
BEGIN:STANDARD
TZOFFSETFROM:+0300
TZOFFSETTO:+0200
TZNAME:EET
DTSTART:20251026T010000
END:STANDARD
END:VTIMEZONE
BEGIN:VEVENT
DTSTART;TZID=Europe/Helsinki:20240813T110000
DTEND;TZID=Europe/Helsinki:20240813T140000
DTSTAMP:20260419T202625
CREATED:20240812T152121Z
LAST-MODIFIED:20240812T152121Z
UID:6639-1723546800-1723557600@orissaarespordihoone.ee
SUMMARY:Eakate tervise- ja spordipäev
DESCRIPTION:Orissaare Eakate Seltsing kutsub vanemaealisi tervise- ja spordipäevale\, mis toimub 13. augustil Orissaare Staadionil algusega kl 11:00 \nKavas: \n\navamine\nmeditsiiniõe ettekanne toidulisanditest\nvirgutusvõimlemine\nsportlikud võistlused\nlõuna\nesinemised\n\nKohtumiseni!
URL:https://orissaarespordihoone.ee/uritus/eakate-tervise-ja-spordipaev/
LOCATION:Orissaare staadion\, Kuivastu maantee-24A\, Orissaare
END:VEVENT
END:VCALENDAR