BEGIN:VCALENDAR
VERSION:2.0
PRODID:-//Orissaare Spordihoone - ECPv6.15.20//NONSGML v1.0//EN
CALSCALE:GREGORIAN
METHOD:PUBLISH
X-WR-CALNAME:Orissaare Spordihoone
X-ORIGINAL-URL:https://orissaarespordihoone.ee
X-WR-CALDESC:Events for Orissaare Spordihoone
REFRESH-INTERVAL;VALUE=DURATION:PT1H
X-Robots-Tag:noindex
X-PUBLISHED-TTL:PT1H
BEGIN:VTIMEZONE
TZID:Europe/Helsinki
BEGIN:DAYLIGHT
TZOFFSETFROM:+0200
TZOFFSETTO:+0300
TZNAME:EEST
DTSTART:20230326T010000
END:DAYLIGHT
BEGIN:STANDARD
TZOFFSETFROM:+0300
TZOFFSETTO:+0200
TZNAME:EET
DTSTART:20231029T010000
END:STANDARD
BEGIN:DAYLIGHT
TZOFFSETFROM:+0200
TZOFFSETTO:+0300
TZNAME:EEST
DTSTART:20240331T010000
END:DAYLIGHT
BEGIN:STANDARD
TZOFFSETFROM:+0300
TZOFFSETTO:+0200
TZNAME:EET
DTSTART:20241027T010000
END:STANDARD
BEGIN:DAYLIGHT
TZOFFSETFROM:+0200
TZOFFSETTO:+0300
TZNAME:EEST
DTSTART:20250330T010000
END:DAYLIGHT
BEGIN:STANDARD
TZOFFSETFROM:+0300
TZOFFSETTO:+0200
TZNAME:EET
DTSTART:20251026T010000
END:STANDARD
END:VTIMEZONE
BEGIN:VEVENT
DTSTART;TZID=Europe/Helsinki:20240909T180000
DTEND;TZID=Europe/Helsinki:20240919T190000
DTSTAMP:20260419T185955
CREATED:20240908T082422Z
LAST-MODIFIED:20240908T082606Z
UID:7387-1725904800-1726772400@orissaarespordihoone.ee
SUMMARY:Spordinädala avatud treeningud
DESCRIPTION:Orissaare Sport osaleb Saaremaa Spordiliidu algatusel spordinädala sündmustel. 9.-20. september toimuvad spordinädala avatud treeningud ehk TASUTA treeningud kahes erinevas trennis: hobiballetis ja lastejoogas. \n\nHobibalett: E ja K 18:00-19:00\n\nTreeningule on oodatud nii gümnaasiumi õpilased kui täiskasvanud naised\, kes eelistavad võhma- ja jõutreeningule leebemat ning naiselikumat lähenemist. \n\nLastejooga: T ja N 18:00-19:00\n\nSaareYoga lastejooga programmis saab laps tutvuda joogaga\, arendada keha- ja keskkonnateadlikkust\, jõudu ja painduvust. Jooga soodustab lapse üldist heaolu. \nJoogatunnid lastele toimuvad kahes grupis: \n\nlapsed vanuses 3-7 aastat T kl 18:00-19:00\nlapsed vanuses 8-13 aastat N kl 18:00-19:00\n\nTule lihtsalt kohale ja tutvu treeningutega. Meil on hea meel kui leiad endale uue ja laheda!
URL:https://orissaarespordihoone.ee/uritus/spordinadala-avatud-treeningud/
LOCATION:Orissaare Spordihoone\, Kuivastu mnt. 29-2\, Orissaare\, 94601
ATTACH;FMTTYPE=image/jpeg:https://orissaarespordihoone.ee/wp-content/uploads/2024/09/458500835_1059855859475215_1487410733971685954_n-e1725612626749.jpg
ORGANIZER;CN="MT%C3%9C Orissaare Sport":MAILTO:orissaare.sport@gmail.com
END:VEVENT
BEGIN:VEVENT
DTSTART;TZID=Europe/Helsinki:20240914T120000
DTEND;TZID=Europe/Helsinki:20240915T170000
DTSTAMP:20260419T185955
CREATED:20240908T083437Z
LAST-MODIFIED:20240911T055820Z
UID:7395-1726315200-1726419600@orissaarespordihoone.ee
SUMMARY:U16 EMV Tallinnas
DESCRIPTION:
URL:https://orissaarespordihoone.ee/uritus/u16-emv-tallinnas/
ATTACH;FMTTYPE=image/jpeg:https://orissaarespordihoone.ee/wp-content/uploads/2024/02/Noorteliiga.jpg
ORGANIZER;CN="Eesti Korvpalliliit":MAILTO:info@basket.ee
END:VEVENT
END:VCALENDAR