BEGIN:VCALENDAR
VERSION:2.0
PRODID:-//Orissaare Spordihoone - ECPv6.15.20//NONSGML v1.0//EN
CALSCALE:GREGORIAN
METHOD:PUBLISH
X-WR-CALNAME:Orissaare Spordihoone
X-ORIGINAL-URL:https://orissaarespordihoone.ee
X-WR-CALDESC:Events for Orissaare Spordihoone
REFRESH-INTERVAL;VALUE=DURATION:PT1H
X-Robots-Tag:noindex
X-PUBLISHED-TTL:PT1H
BEGIN:VTIMEZONE
TZID:Europe/Helsinki
BEGIN:DAYLIGHT
TZOFFSETFROM:+0200
TZOFFSETTO:+0300
TZNAME:EEST
DTSTART:20230326T010000
END:DAYLIGHT
BEGIN:STANDARD
TZOFFSETFROM:+0300
TZOFFSETTO:+0200
TZNAME:EET
DTSTART:20231029T010000
END:STANDARD
BEGIN:DAYLIGHT
TZOFFSETFROM:+0200
TZOFFSETTO:+0300
TZNAME:EEST
DTSTART:20240331T010000
END:DAYLIGHT
BEGIN:STANDARD
TZOFFSETFROM:+0300
TZOFFSETTO:+0200
TZNAME:EET
DTSTART:20241027T010000
END:STANDARD
BEGIN:DAYLIGHT
TZOFFSETFROM:+0200
TZOFFSETTO:+0300
TZNAME:EEST
DTSTART:20250330T010000
END:DAYLIGHT
BEGIN:STANDARD
TZOFFSETFROM:+0300
TZOFFSETTO:+0200
TZNAME:EET
DTSTART:20251026T010000
END:STANDARD
END:VTIMEZONE
BEGIN:VEVENT
DTSTART;TZID=Europe/Helsinki:20241020T134500
DTEND;TZID=Europe/Helsinki:20241020T171500
DTSTAMP:20260419T173028
CREATED:20241009T100157Z
LAST-MODIFIED:20241010T131231Z
UID:8104-1729431900-1729444500@orissaarespordihoone.ee
SUMMARY:U14 EMV etapp\, Kuressaare
DESCRIPTION:13:45 Orissaare vs BC Kalev Cramo/ KK Sokud 2 \n15:30 Orissaare vs BC Tallinn Kalev
URL:https://orissaarespordihoone.ee/uritus/u14-emv-etapp-kuressaare/
LOCATION:Kuressaare Spordihoone\, Vallimaa 16A\, Kuressaare\, 93819
ORGANIZER;CN="Eesti Korvpalliliit":MAILTO:info@basket.ee
END:VEVENT
END:VCALENDAR