BEGIN:VCALENDAR
VERSION:2.0
PRODID:-//Orissaare Spordihoone - ECPv6.15.20//NONSGML v1.0//EN
CALSCALE:GREGORIAN
METHOD:PUBLISH
X-ORIGINAL-URL:https://orissaarespordihoone.ee
X-WR-CALDESC:Events for Orissaare Spordihoone
REFRESH-INTERVAL;VALUE=DURATION:PT1H
X-Robots-Tag:noindex
X-PUBLISHED-TTL:PT1H
BEGIN:VTIMEZONE
TZID:Europe/Helsinki
BEGIN:DAYLIGHT
TZOFFSETFROM:+0200
TZOFFSETTO:+0300
TZNAME:EEST
DTSTART:20230326T010000
END:DAYLIGHT
BEGIN:STANDARD
TZOFFSETFROM:+0300
TZOFFSETTO:+0200
TZNAME:EET
DTSTART:20231029T010000
END:STANDARD
BEGIN:DAYLIGHT
TZOFFSETFROM:+0200
TZOFFSETTO:+0300
TZNAME:EEST
DTSTART:20240331T010000
END:DAYLIGHT
BEGIN:STANDARD
TZOFFSETFROM:+0300
TZOFFSETTO:+0200
TZNAME:EET
DTSTART:20241027T010000
END:STANDARD
BEGIN:DAYLIGHT
TZOFFSETFROM:+0200
TZOFFSETTO:+0300
TZNAME:EEST
DTSTART:20250330T010000
END:DAYLIGHT
BEGIN:STANDARD
TZOFFSETFROM:+0300
TZOFFSETTO:+0200
TZNAME:EET
DTSTART:20251026T010000
END:STANDARD
END:VTIMEZONE
BEGIN:VEVENT
DTSTART;TZID=Europe/Helsinki:20241026T140000
DTEND;TZID=Europe/Helsinki:20241026T181500
DTSTAMP:20260419T173043
CREATED:20241009T094736Z
LAST-MODIFIED:20241010T131541Z
UID:8093-1729951200-1729966500@orissaarespordihoone.ee
SUMMARY:U16 EMV etapp\, Kuressaare
DESCRIPTION:14:00 Orissaare vs Nõo \n16:45 Orissaare vs Tartu Kalev
URL:https://orissaarespordihoone.ee/uritus/u16-emv-etapp-kuressaare/
LOCATION:Kuressaare Spordihoone\, Vallimaa 16A\, Kuressaare\, 93819
ORGANIZER;CN="Eesti Korvpalliliit":MAILTO:info@basket.ee
END:VEVENT
END:VCALENDAR