BEGIN:VCALENDAR
VERSION:2.0
PRODID:-//Orissaare Spordihoone - ECPv6.15.20//NONSGML v1.0//EN
CALSCALE:GREGORIAN
METHOD:PUBLISH
X-ORIGINAL-URL:https://orissaarespordihoone.ee
X-WR-CALDESC:Events for Orissaare Spordihoone
REFRESH-INTERVAL;VALUE=DURATION:PT1H
X-Robots-Tag:noindex
X-PUBLISHED-TTL:PT1H
BEGIN:VTIMEZONE
TZID:Europe/Helsinki
BEGIN:DAYLIGHT
TZOFFSETFROM:+0200
TZOFFSETTO:+0300
TZNAME:EEST
DTSTART:20230326T010000
END:DAYLIGHT
BEGIN:STANDARD
TZOFFSETFROM:+0300
TZOFFSETTO:+0200
TZNAME:EET
DTSTART:20231029T010000
END:STANDARD
BEGIN:DAYLIGHT
TZOFFSETFROM:+0200
TZOFFSETTO:+0300
TZNAME:EEST
DTSTART:20240331T010000
END:DAYLIGHT
BEGIN:STANDARD
TZOFFSETFROM:+0300
TZOFFSETTO:+0200
TZNAME:EET
DTSTART:20241027T010000
END:STANDARD
BEGIN:DAYLIGHT
TZOFFSETFROM:+0200
TZOFFSETTO:+0300
TZNAME:EEST
DTSTART:20250330T010000
END:DAYLIGHT
BEGIN:STANDARD
TZOFFSETFROM:+0300
TZOFFSETTO:+0200
TZNAME:EET
DTSTART:20251026T010000
END:STANDARD
END:VTIMEZONE
BEGIN:VEVENT
DTSTART;TZID=Europe/Helsinki:20241109T100000
DTEND;TZID=Europe/Helsinki:20241109T150000
DTSTAMP:20260419T161133
CREATED:20241022T072412Z
LAST-MODIFIED:20241022T072412Z
UID:8178-1731146400-1731164400@orissaarespordihoone.ee
SUMMARY:Orissaare OPEN 2024
DESCRIPTION:Orissaare Open on discgolfi võistlus\, mis sobib hästi algajale ja harrastajale. Rada on mõnusalt avar ja võimetekohane igas vanuses mängijatele.\n\nAEG ja KOHT: 09.11.2024\, Ilgitsa koppel\, Orissaare terviserada.\n\nVõistluse täpsem info ja juhend ja registreerimine: https://discgolfmetrix.com/3158474
URL:https://orissaarespordihoone.ee/uritus/orissaare-open-2024/
LOCATION:Orissaare Terviserada\, Maasi mets\, Orissaare\, 94601
ATTACH;FMTTYPE=image/jpeg:https://orissaarespordihoone.ee/wp-content/uploads/2024/10/463230114_1093138072813660_6729459888819781060_n.jpg
ORGANIZER;CN="MT%C3%9C Orissaare Sport":MAILTO:orissaare.sport@gmail.com
END:VEVENT
BEGIN:VEVENT
DTSTART;TZID=Europe/Helsinki:20241109T113000
DTEND;TZID=Europe/Helsinki:20241109T151500
DTSTAMP:20260419T161133
CREATED:20241009T100424Z
LAST-MODIFIED:20241107T131950Z
UID:8106-1731151800-1731165300@orissaarespordihoone.ee
SUMMARY:U14 EMV etapp\, Tallinn
DESCRIPTION:11:30 Orissaare vs TSA-2 \n13:45 Orissaare vs Audentese SK
URL:https://orissaarespordihoone.ee/uritus/u14-emv-etapp-tallinn/
LOCATION:Audentese spordiklubi\, Tondi 84/2\, Tallinn\, 11316
ORGANIZER;CN="Eesti Korvpalliliit":MAILTO:info@basket.ee
END:VEVENT
END:VCALENDAR