BEGIN:VCALENDAR
VERSION:2.0
PRODID:-//Orissaare Spordihoone - ECPv6.15.20//NONSGML v1.0//EN
CALSCALE:GREGORIAN
METHOD:PUBLISH
X-ORIGINAL-URL:https://orissaarespordihoone.ee
X-WR-CALDESC:Events for Orissaare Spordihoone
REFRESH-INTERVAL;VALUE=DURATION:PT1H
X-Robots-Tag:noindex
X-PUBLISHED-TTL:PT1H
BEGIN:VTIMEZONE
TZID:Europe/Helsinki
BEGIN:DAYLIGHT
TZOFFSETFROM:+0200
TZOFFSETTO:+0300
TZNAME:EEST
DTSTART:20230326T010000
END:DAYLIGHT
BEGIN:STANDARD
TZOFFSETFROM:+0300
TZOFFSETTO:+0200
TZNAME:EET
DTSTART:20231029T010000
END:STANDARD
BEGIN:DAYLIGHT
TZOFFSETFROM:+0200
TZOFFSETTO:+0300
TZNAME:EEST
DTSTART:20240331T010000
END:DAYLIGHT
BEGIN:STANDARD
TZOFFSETFROM:+0300
TZOFFSETTO:+0200
TZNAME:EET
DTSTART:20241027T010000
END:STANDARD
BEGIN:DAYLIGHT
TZOFFSETFROM:+0200
TZOFFSETTO:+0300
TZNAME:EEST
DTSTART:20250330T010000
END:DAYLIGHT
BEGIN:STANDARD
TZOFFSETFROM:+0300
TZOFFSETTO:+0200
TZNAME:EET
DTSTART:20251026T010000
END:STANDARD
END:VTIMEZONE
BEGIN:VEVENT
DTSTART;TZID=Europe/Helsinki:20241121T090000
DTEND;TZID=Europe/Helsinki:20241121T140000
DTSTAMP:20260419T161113
CREATED:20240917T122041Z
LAST-MODIFIED:20241022T072058Z
UID:7497-1732179600-1732197600@orissaarespordihoone.ee
SUMMARY:Saare- ja Muhumaa lasteaedade spordipäev
DESCRIPTION:Alates 2010. aastast korraldab MTÜ Orissaare Sport koostöös Orissaare ja Muhu lasteaiaga Saare- ja Muhumaa lasteaedade spordipäeva. \nVõistlusele on oodatud osalema kõik Saare maakonna lasteaiad. \nEelregistreeruda saab telefonil: 53401046 või e-maili teel: orissaare.sport@gmail.com kuni 19. novembrini. \n2024. aasta võistlus toimub 21. november kell 10.00-14.00 Orissaare Spordihoones. NB! Registratuur on avatud alates kella 9.00-st. Registratuurist saab täpse võistluste kirjelduse ja ajakava. \nAndla Rüütel 53401046
URL:https://orissaarespordihoone.ee/uritus/saare-ja-muhumaa-lasteaedade-spordipaev/
LOCATION:Orissaare Spordihoone\, Kuivastu mnt. 29-2\, Orissaare\, 94601
ATTACH;FMTTYPE=image/jpeg:https://orissaarespordihoone.ee/wp-content/uploads/2024/09/463278236_1093899222737545_4787767031084954591_n.jpg
END:VEVENT
END:VCALENDAR