BEGIN:VCALENDAR
VERSION:2.0
PRODID:-//Orissaare Spordihoone - ECPv6.15.20//NONSGML v1.0//EN
CALSCALE:GREGORIAN
METHOD:PUBLISH
X-ORIGINAL-URL:https://orissaarespordihoone.ee
X-WR-CALDESC:Events for Orissaare Spordihoone
REFRESH-INTERVAL;VALUE=DURATION:PT1H
X-Robots-Tag:noindex
X-PUBLISHED-TTL:PT1H
BEGIN:VTIMEZONE
TZID:Europe/Helsinki
BEGIN:DAYLIGHT
TZOFFSETFROM:+0200
TZOFFSETTO:+0300
TZNAME:EEST
DTSTART:20250330T010000
END:DAYLIGHT
BEGIN:STANDARD
TZOFFSETFROM:+0300
TZOFFSETTO:+0200
TZNAME:EET
DTSTART:20251026T010000
END:STANDARD
BEGIN:DAYLIGHT
TZOFFSETFROM:+0200
TZOFFSETTO:+0300
TZNAME:EEST
DTSTART:20260329T010000
END:DAYLIGHT
BEGIN:STANDARD
TZOFFSETFROM:+0300
TZOFFSETTO:+0200
TZNAME:EET
DTSTART:20261025T010000
END:STANDARD
BEGIN:DAYLIGHT
TZOFFSETFROM:+0200
TZOFFSETTO:+0300
TZNAME:EEST
DTSTART:20270328T010000
END:DAYLIGHT
BEGIN:STANDARD
TZOFFSETFROM:+0300
TZOFFSETTO:+0200
TZNAME:EET
DTSTART:20271031T010000
END:STANDARD
END:VTIMEZONE
BEGIN:VEVENT
DTSTART;TZID=Europe/Helsinki:20260523T080000
DTEND;TZID=Europe/Helsinki:20260523T170000
DTSTAMP:20260423T212952
CREATED:20260423T123215Z
LAST-MODIFIED:20260423T123215Z
UID:10607-1779523200-1779555600@orissaarespordihoone.ee
SUMMARY:TV10 OS vabariiklik IV etapp\, Tartu Tamme Staadion
DESCRIPTION:PV kettaheide\, pallivise\, 1000 m\nPN kettaheide\, pallivise\, 1000 m\nTV kettaheide\, pallivise\, 600 m\nTN pallivise\, 600 m
URL:https://orissaarespordihoone.ee/uritus/tv10-os-vabariiklik-iv-etapp-tartu-tamme-staadion/
LOCATION:Tartu Tamme Staadion\, Tamme puiestee 1\, Tartu\, Tartumaa\, 50403\, Estonia
ORGANIZER;CN="Eesti Kergej%C3%B5ustikuliit":MAILTO:ekjl@ekjl.ee
END:VEVENT
BEGIN:VEVENT
DTSTART;TZID=Europe/Helsinki:20260523T100000
DTEND;TZID=Europe/Helsinki:20260524T180000
DTSTAMP:20260423T212952
CREATED:20260423T122004Z
LAST-MODIFIED:20260423T122004Z
UID:10605-1779530400-1779645600@orissaarespordihoone.ee
SUMMARY:Saare maakonna lahtised MV meeste korvpallis 2025/2026
DESCRIPTION:Tule osa võtma Saaremaa ühe oodatuima korvpalliturniiri melust! Kahepäevane kompaktne ja põnev võistlus toob kokku kuni 8 võistkonda nii Saare maakonnast kui ka mujalt.\n\nTurniiri formaat• Maksimaalselt 8 võistkonda• 2 alagruppi (A ja B)\, kummaski 4 tiimi• Laupäeval 2 alagrupimängu igale võistkonnale• Pühapäeval alagrupi viimased mängud + kohamängud• Kõik kohad mängitakse välja\nMängud ja reeglid:• Mängitakse FIBA reeglite järgi• Mänguaeg 4 x 10 minutit (viimased 2 minutit kinnise ajaga)• Turniiri võitja viib aastaks koju rändkarika\nOsalemine:• Avatud kõigile võistkondadele (ka väljaspool Saaremaad)• Võistkonnas kuni 12 mängijat• Lihtne registreerimine – eesmärk on tuua võimalikult palju mängurõõmu!\nOsavõtutasu: 500 € võistkonna kohta\nRegistreerimine:Saada e-mail aadressile orissaare.sport@gmail.com Lisa vähemalt 6 mängijaga esialgne nimekiri Tähtaeg: 10. mai 2026 Osalustasu maksmine hiljemalt 17. mai 2026\nNB!• Võistkond peab olema kohal vähemalt 10 min enne mängu• Hilinemisel võib määrata loobumiskaotuse• Osalemine toimub omal vastutusel
URL:https://orissaarespordihoone.ee/uritus/saare-maakonna-lahtised-mv-meeste-korvpallis-2025-2026/
LOCATION:Orissaare Spordihoone\, Kuivastu mnt. 29-2\, Orissaare\, 94601
ORGANIZER;CN="MT%C3%9C Orissaare Sport":MAILTO:orissaare.sport@gmail.com
END:VEVENT
END:VCALENDAR