BEGIN:VCALENDAR
VERSION:2.0
PRODID:-//Orissaare Spordihoone - ECPv6.15.20//NONSGML v1.0//EN
CALSCALE:GREGORIAN
METHOD:PUBLISH
X-WR-CALNAME:Orissaare Spordihoone
X-ORIGINAL-URL:https://orissaarespordihoone.ee
X-WR-CALDESC:Events for Orissaare Spordihoone
REFRESH-INTERVAL;VALUE=DURATION:PT1H
X-Robots-Tag:noindex
X-PUBLISHED-TTL:PT1H
BEGIN:VTIMEZONE
TZID:Europe/Helsinki
BEGIN:DAYLIGHT
TZOFFSETFROM:+0200
TZOFFSETTO:+0300
TZNAME:EEST
DTSTART:20230326T010000
END:DAYLIGHT
BEGIN:STANDARD
TZOFFSETFROM:+0300
TZOFFSETTO:+0200
TZNAME:EET
DTSTART:20231029T010000
END:STANDARD
BEGIN:DAYLIGHT
TZOFFSETFROM:+0200
TZOFFSETTO:+0300
TZNAME:EEST
DTSTART:20240331T010000
END:DAYLIGHT
BEGIN:STANDARD
TZOFFSETFROM:+0300
TZOFFSETTO:+0200
TZNAME:EET
DTSTART:20241027T010000
END:STANDARD
BEGIN:DAYLIGHT
TZOFFSETFROM:+0200
TZOFFSETTO:+0300
TZNAME:EEST
DTSTART:20250330T010000
END:DAYLIGHT
BEGIN:STANDARD
TZOFFSETFROM:+0300
TZOFFSETTO:+0200
TZNAME:EET
DTSTART:20251026T010000
END:STANDARD
END:VTIMEZONE
BEGIN:VEVENT
DTSTART;TZID=Europe/Helsinki:20240701T103000
DTEND;TZID=Europe/Helsinki:20240703T190000
DTSTAMP:20260419T202627
CREATED:20240525T071417Z
LAST-MODIFIED:20240701T130930Z
UID:6355-1719829800-1720033200@orissaarespordihoone.ee
SUMMARY:Fitness laager
DESCRIPTION:Kava:\n01.07. Esmaspäev\n10.00 Laagri algus Orissaare Spordihoones\n11.00 Treening jõusaalis\n13.00 Lõunasöök\n15.00 Jõutõstmise töötuba. Juhendaja: Kaarel Kolter\n18.00 Õhtusöök\n20.00 Mängud\, suplus\, supitamine\n23.00 Öörahu \n02.07. Teisipäev\n08.30 Äratus. Hommikurutiin – jooks\, võimlemine\, suplus\n09.30 Hommikusöök\n11.00 Treening jõusaalis\n13.00 Lõunasöök\n15.00 Treening jõusaalis. Toitumine & toidulisandid. Juhendaja: Karmen Kiier\n17.00 Aeroobne treening\n18.00 Õhtusöök\n20.00 Mängud\, suplus\, supitamine\n23.00 Öörahu \n03.07. Kolmapäev\n08.30 Äratus. Hommikurutiin – jooks\, võimlemine\, suplus\n09.30 Hommikusöök\n11.00 Treening jõusaalis\n13.00 Lõunasöök\n15.00 Treening välijõusaalis\n18.00 Õhtusöök. Laagri lõpetamine.
URL:https://orissaarespordihoone.ee/uritus/fitness-laager/
LOCATION:Orissaare Spordihoone\, Kuivastu mnt. 29-2\, Orissaare\, 94601
END:VEVENT
BEGIN:VEVENT
DTSTART;TZID=Europe/Helsinki:20240704T120000
DTEND;TZID=Europe/Helsinki:20240705T180000
DTSTAMP:20260419T202627
CREATED:20240701T131704Z
LAST-MODIFIED:20240701T132211Z
UID:6444-1720094400-1720202400@orissaarespordihoone.ee
SUMMARY:Koolivaheaja korvpallilaager Orissaares
DESCRIPTION:Koolivaheaja korvpallilaagrisse on oodatud poisid vanuses 7-9 eluaastat. \n  \nLaagri ajakava: \nN 4. juuli\n12.00 – Koguneme Orissaare Spordihoones\n12.10 – Tervitus treenerite poolt ja laagri tutvustus\n12.30 – 14.00 – 1. korvpalli trenn\n14.30 – 15.30 – Hiline lõunasöök\n15.30-17.30 – Vaba aeg\n17.30-19.00 – 2.korvpalli trenn\n19.15 – Õhtusöök\n19.30 – 21.00 – Filmiõhtu ja spordiviktoriin\n22.00 –  Öörahu \nKes soovivad saavad jääda ööbima (oma magamisasjad kaasa). Pehme küljealuse leiame spordihoonest. Teki ja padja eest vastutab laps ise. Tegemist on põrandamajutusega. \nR 5. juuli\n9.00 – Hommikusöök ja asjade kokkupanek\n10.15- 12.00 – Korvpalli treening\n12.30-13.00 – Lõunasöök\n13.00 – 15.30 – Vaba aeg\n16.00- 17.30 – Laagri korvpalli mäng.\n18.00 – Laagri lõpp
URL:https://orissaarespordihoone.ee/uritus/koolivaheaja-korvpallilaager-orissaares/
LOCATION:Orissaare Spordihoone\, Kuivastu mnt. 29-2\, Orissaare\, 94601
END:VEVENT
BEGIN:VEVENT
DTSTART;TZID=Europe/Helsinki:20240725T130000
DTEND;TZID=Europe/Helsinki:20240730T130000
DTSTAMP:20260419T202627
CREATED:20240525T071454Z
LAST-MODIFIED:20240724T172346Z
UID:6357-1721912400-1722344400@orissaarespordihoone.ee
SUMMARY:TalTech võrkpallilaager
DESCRIPTION:Laagri päevakava:\n09:00  – hommikusöök\n10:00-13:00  – saalitreening (kaks platsi + jõusaal)\n13:30  – lõunasöök\n16:00-18:00  –  staadionitreening\n18:30  – õhtusöök\n20.00  – trenn Illiku volleväljakul \n  \nTeistele spordihoone külastajate jaoks oleme avatud alates 15:00
URL:https://orissaarespordihoone.ee/uritus/taltech-vorkpallilaager/
LOCATION:Orissaare Spordihoone\, Kuivastu mnt. 29-2\, Orissaare\, 94601
END:VEVENT
BEGIN:VEVENT
DTSTART;TZID=Europe/Helsinki:20240731T140000
DTEND;TZID=Europe/Helsinki:20240804T110000
DTSTAMP:20260419T202627
CREATED:20240525T071526Z
LAST-MODIFIED:20240731T131714Z
UID:6359-1722434400-1722769200@orissaarespordihoone.ee
SUMMARY:Paide korvpallilaager
DESCRIPTION:Laagri algus 31.07 kl 14:00 ja lõpp 4.08 kl 11:00 \n  \nPäevakava: \n8:00 ÄRATUS\, hommikuvõimlemine/-jooks/-tants\, hügieen \n9:00 HOMMIKUSÖÖK \n10:00 Hommikune treening\, vaba aeg \n14:00 LÕUNASÖÖK \nPuhkus (vaikne tund)\, vaba aeg \n17:00 Õhtune treening/Tegevuskavad \n19:00 ÕHTUSÖÖK \n19:15 Telefoni kasutamine \n20:00 Tegevuskava\, vaba aeg \n22:00 Hügieen\, ÖÖRAHU \n23:00 Tuled kustu! \n  \nTeistele spordihoone külastajatele on maja avatud alates kl 15:00.
URL:https://orissaarespordihoone.ee/uritus/paide-korvpallilaager/
LOCATION:Orissaare Spordihoone\, Kuivastu mnt. 29-2\, Orissaare\, 94601
END:VEVENT
END:VCALENDAR